BEGIN:VCALENDAR
VERSION:2.0
PRODID:-//公益社団法人 滋賀県環境保全協会 - ECPv6.7.0//NONSGML v1.0//EN
CALSCALE:GREGORIAN
METHOD:PUBLISH
X-ORIGINAL-URL:https://www.kankyohozen.jp
X-WR-CALDESC:公益社団法人 滋賀県環境保全協会 のイベント
REFRESH-INTERVAL;VALUE=DURATION:PT1H
X-Robots-Tag:noindex
X-PUBLISHED-TTL:PT1H
BEGIN:VTIMEZONE
TZID:Asia/Tokyo
BEGIN:STANDARD
TZOFFSETFROM:+0900
TZOFFSETTO:+0900
TZNAME:JST
DTSTART:20230101T000000
END:STANDARD
END:VTIMEZONE
BEGIN:VEVENT
DTSTART;TZID=Asia/Tokyo:20230127T153000
DTEND;TZID=Asia/Tokyo:20230127T190000
DTSTAMP:20260424T043415
CREATED:20221208T011331Z
LAST-MODIFIED:20230119T062429Z
UID:4392-1674833400-1674846000@www.kankyohozen.jp
SUMMARY:新春賀詞交歓会
DESCRIPTION:新型コロナウイルス感染症により2年間開催できませんでした新春の恒例行事であります賀詞交歓会を下記の通り開催します。 \n今回は、「脱炭素と資源循環」と題して環境省の井上雄祐氏にご講演を頂きます。 \nつきましては、何かとご多用とは存じますが、是非とも、ご参加を賜りますようご案内申し上げます。 \n  \n【日 　時】　　　　令和5年1月27日（金）　15時00分受付開始 \n　　　　　　　　　　特別講演会　　　　　15時30分から17時00分　 \n　　　　　　　　　　賀詞交歓会　　　　　17時15分から19時00分 \n  \n【会　場】　　　　 琵琶湖ホテル　3F 「瑠璃の間」 \n　　　　　　　　　　　　大津市浜町2-40　 　 \n　　　　　　　　　　　　TEL　077-524-7111 \n 【講演会内容】　　 脱炭素と資源循環～世界の潮流と地域・くらしの取組み～ \n　　　　　 　　　　　　　環境省 地球環境局　地球温暖化対策課　 \n　　　　　　　　　　　　脱炭素ライフスタイル推進室 室長 井上 雄祐氏 \n【参加費】　　　　交歓会にご参加の方のみ10\,000円を当日徴収させて頂きます。 \n【その他】　　　　ご来場の際はマスクの着用でお越し下さい。 \n【申込締切】　　　令和4年12月28日(水)
URL:https://www.kankyohozen.jp/event/%e6%96%b0%e6%98%a5%e8%b3%80%e8%a9%9e%e4%ba%a4%e6%ad%93%e4%bc%9a-4
LOCATION:琵琶湖ホテル\, 滋賀県大津市浜町2-40\, 大津市\, 520-0041\, 日本
ORGANIZER;CN="%EF%BC%88%E5%85%AC%E7%A4%BE%EF%BC%89%E6%BB%8B%E8%B3%80%E7%9C%8C%E7%92%B0%E5%A2%83%E4%BF%9D%E5%85%A8%E5%8D%94%E4%BC%9A":MAILTO:info@kankyohozen.jp
END:VEVENT
END:VCALENDAR