BEGIN:VCALENDAR
VERSION:2.0
PRODID:-//公益社団法人 滋賀県環境保全協会 - ECPv6.7.0//NONSGML v1.0//EN
CALSCALE:GREGORIAN
METHOD:PUBLISH
X-WR-CALNAME:公益社団法人 滋賀県環境保全協会
X-ORIGINAL-URL:https://www.kankyohozen.jp
X-WR-CALDESC:公益社団法人 滋賀県環境保全協会 のイベント
REFRESH-INTERVAL;VALUE=DURATION:PT1H
X-Robots-Tag:noindex
X-PUBLISHED-TTL:PT1H
BEGIN:VTIMEZONE
TZID:Asia/Tokyo
BEGIN:STANDARD
TZOFFSETFROM:+0900
TZOFFSETTO:+0900
TZNAME:JST
DTSTART:20230101T000000
END:STANDARD
END:VTIMEZONE
BEGIN:VEVENT
DTSTART;TZID=Asia/Tokyo:20230307T140000
DTEND;TZID=Asia/Tokyo:20230307T163000
DTSTAMP:20260424T012952
CREATED:20230213T005639Z
LAST-MODIFIED:20230213T011922Z
UID:4430-1678197600-1678206600@www.kankyohozen.jp
SUMMARY:高島地域環境保全研修会
DESCRIPTION:滋賀県高島環境事務所との共催で、標記研修会を下記のとおり開催いたします。 \nこの研修会は、事業者の環境保全の取り組みを推進することを目的としており、 \n最近の環境に関する法令改正の説明や事業所立入調査報告等の情報提供を行います。 \n法令遵守や日常の環境管理業務に役立つものと考えられますので、是非ご出席いただきますようご案内いたします。 \nなお、ご参加につきましては、2月28日（火）までに申込みをお願いします。 \n　　　　　　　　　　　　　　　　　　　　　　　　　　　　　　　　　　　　　　 \n  \n１．日　時　　　令和5年3月7日（火）14時00分～16時30分（受付開始13時30分） \n  \n２．場　所　　　 高島市観光物産プラザ内　新旭公民館２階 視聴覚室（電話0740-25-5500） \n　　　　　　　　　高島市新旭町旭一丁目10番地1　JR新旭駅 西口より徒歩1分 \n　　　　　　　　　※できるだけ公共交通機関の御利用をお願いいたします。 \n  \n３．対象者　　　高島地域管内事業所の環境管理の責任者・担当者等 \n  \n４．参加費　　　 無料 \n  \n５．内　容                                                    \n　　　　　　　(1) 高島環境事務所からの情報提供（60分）　     　 \n　　　　　　　　・令和４年度工場等立入調査結果について　　　　　　　　　滋賀県高島環境事務所 \n  \n　　　　　　　(2) 環境先進企業への挑戦　「廃木材を活用した歩道づくり」（30分） \n　　　　　　　　　　　　　　　　　　　 　　　　　　　　　　　　　　　　株式会社田中建材 \n  \n　　　　　　　(3) 琵琶湖を切り口としたSDGs \n　    　　　　　　　　　　　　　マザーレイクゴールズ（MLGs）が目指す持続可能な社会（30分） \n　　　　　　　　　　　　　　　　　　　　　　　　　             滋賀県琵琶湖環境部琵琶湖保全再生課 \n  \n※当日のプログラムに変更がある場合がありますが、御了承ください。 \n  \n  \n６．新型コロナウイルス感染予防対策について \n　　新型コロナウイルス感染防止の観点から、以下の通り、会場で感染防止対策を講じた \n　　上で実施しますので、全ての項目に同意の上、お申込下さい。 \n　　　(1)   換気も十分配慮して対応致します。 \n　　　　　(尚、窓や扉を開けて換気をする場合がありますので体温調整の出来る服装でご出席ください。) \n　　　(2)   受講者は必ずマスクを着用の上、来場し、会場内では常時マスクを着用して下さい。 \n　　　(3)   会場ではアルコール消毒液を設置しておりますので、手指消毒をお願い致します \n　　　(4)   発熱(37.5℃以上)等の体調不良が認められる方は、予め来場をお控え下さい。 \n　　　(5)   会場では受付で検温を実施し、発熱等の体調不良が確認された場合は受講をお断り致します。 \n  \n　　　　○主催　　滋賀県高島環境事務所・公益社団法人滋賀県環境保全協会 \n  \n  \n 
URL:https://www.kankyohozen.jp/event/%e9%ab%98%e5%b3%b6%e5%9c%b0%e5%9f%9f%e7%92%b0%e5%a2%83%e4%bf%9d%e5%85%a8%e7%a0%94%e4%bf%ae%e4%bc%9a-8
LOCATION:高島市観光物産プラザ内　新旭公民館\, 高島市新旭町旭1丁目10-1\, 高島市\, 高島市\, 520-1501\, 日本
ORGANIZER;CN="%EF%BC%88%E5%85%AC%E7%A4%BE%EF%BC%89%E6%BB%8B%E8%B3%80%E7%9C%8C%E7%92%B0%E5%A2%83%E4%BF%9D%E5%85%A8%E5%8D%94%E4%BC%9A":MAILTO:info@kankyohozen.jp
END:VEVENT
BEGIN:VEVENT
DTSTART;TZID=Asia/Tokyo:20230308T140000
DTEND;TZID=Asia/Tokyo:20230308T160000
DTSTAMP:20260424T012952
CREATED:20230130T012317Z
LAST-MODIFIED:20230130T012317Z
UID:4423-1678284000-1678291200@www.kankyohozen.jp
SUMMARY:湖北地域環境保全研修会
DESCRIPTION:滋賀県湖北環境事務所との共催で、標記研修会を下記のとおり開催いたします。 \nこの研修会は、事業者の環境保全の取り組みを推進することを目的としており、 \n法令遵守や日常の環境管理業務に役立つものと考えられますので、 \n環境管理の責任者・担当者に是非ご参加いただきますようお願いいたします。 \nなお、ご参加につきましては、令和5年3月1日（水）までに申込みをお願いいたします。 \nまた、新型コロナウイルス感染状況で集合型研修をWeb研修に変更する場合がありますのでご了承ください。 \n　　　　　　　　　　　　　　　　　　　　　　　　　　　　　　　　　　　　　　　 \n  \n１．日　時　　　令和５年３月８日（水）14時～１６時（受付開始13時30分） \n  \n２．場　所　　　長浜まちづくりセンター　さざなみタウン　2階　多目的ホール \n　　　　　　　　（長浜市高田町12番34号　ながはま文化福祉プラザ内） \n　　　　　　　　TEL:0749-65-6907 \n　　　　　　　　　※駐車場に限りがあります。できるだけ公共交通機関でのご利用をお願いします。 \n  \n３．対象者　　　湖北地域管内事業場の環境管理の責任者・担当者等 \n  \n４．参加費　　　 無料 \n  \n５．内　容                                                    \n　　　　　(1) 湖北環境事務所からの情報提供　　　　　   滋賀県湖北環境事務所 \n 　　　　　　　・工場等立入調査結果等について \n  \n　　　　　(2) 管内事業場からの環境保全活動の取り組み事例紹介 \n 　　　　　　　・省エネへの取り組み事例の紹介について　エルナープリンテッドサーキット株式会社 \n 　　　　　　　・油流出事故を受けて　　　　　　　　　　カネ上株式会社 \n  \n　　　　　　　　※当日のプログラムに変更がある場合がありますが、ご了承ください。 \n  \n ６．新型コロナウイルス感染予防対策について \n　　新型コロナウイルス感染防止の観点から、以下のとおり、会場で感染防止対策を講じた上で実施いたしますので、 \n　　すべての項目に同意の上お申込みください。 \n　　　(1)   換気も十分配慮して対応いたします。 \n　　　　　(なお、窓や扉を開けて換気をする場合がありますので、体温調整のできる服装でお願いいたします。) \n　　　(2)   受講者は必ずマスクを着用の上、来場し、会場内では常時マスクの着用をお願いいたします。 \n　　　(3)   会場にはアルコール消毒液を設置しておりますので、手指消毒をお願いいたします \n　　　(4)   発熱(37.5℃以上)等の体調不良が認められる方は、予め来場をお控えください。 \n　　　(5)   会場では受付で検温を実施し、発熱等の体調不良が確認された場合には受講をお断りいたします。 \n　　　　　　 ○主催　　滋賀県湖北環境事務所・公益社団法人滋賀県環境保全協会 \n  \n  \n 
URL:https://www.kankyohozen.jp/event/%e6%b9%96%e5%8c%97%e5%9c%b0%e5%9f%9f%e7%92%b0%e5%a2%83%e4%bf%9d%e5%85%a8%e7%a0%94%e4%bf%ae%e4%bc%9a-8
LOCATION:長浜まちづくりセンター　さざなみタウン\, 高田町12-34\, 長浜市\, 526-0037 \, 日本
ORGANIZER;CN="%EF%BC%88%E5%85%AC%E7%A4%BE%EF%BC%89%E6%BB%8B%E8%B3%80%E7%9C%8C%E7%92%B0%E5%A2%83%E4%BF%9D%E5%85%A8%E5%8D%94%E4%BC%9A":MAILTO:info@kankyohozen.jp
END:VEVENT
END:VCALENDAR