BEGIN:VCALENDAR
VERSION:2.0
PRODID:-//公益社団法人 滋賀県環境保全協会 - ECPv6.7.0//NONSGML v1.0//EN
CALSCALE:GREGORIAN
METHOD:PUBLISH
X-ORIGINAL-URL:https://www.kankyohozen.jp
X-WR-CALDESC:公益社団法人 滋賀県環境保全協会 のイベント
REFRESH-INTERVAL;VALUE=DURATION:PT1H
X-Robots-Tag:noindex
X-PUBLISHED-TTL:PT1H
BEGIN:VTIMEZONE
TZID:Asia/Tokyo
BEGIN:STANDARD
TZOFFSETFROM:+0900
TZOFFSETTO:+0900
TZNAME:JST
DTSTART:20240101T000000
END:STANDARD
END:VTIMEZONE
BEGIN:VEVENT
DTSTART;TZID=Asia/Tokyo:20240306T140000
DTEND;TZID=Asia/Tokyo:20240306T161500
DTSTAMP:20260423T040349
CREATED:20240207T071801Z
LAST-MODIFIED:20240207T071801Z
UID:4520-1709733600-1709741700@www.kankyohozen.jp
SUMMARY:湖北地域環境保全研修会
DESCRIPTION:滋賀県湖北環境事務所との共催で、標記研修会を下記のとおり開催します。 \nこの研修会は、事業者の環境保全の取り組みを推進することを目的としており、法令遵守や日常の環境管理業務に役立つものと考えられますので、環境管理の責任者・担当者に是非参加いただきますようご配慮をお願いします。 \nご参加につきましては、令和６年２月28日（水）までにお申込みください。 \n  \n１．日　時　　　令和６年３月６日（水）14：00～16：15（受付開始13：30） \n  \n２．場　所　　　長浜まちづくりセンター　さざなみタウン　２階　多目的ホール \n　　　　　　　　（長浜市高田町12番34号　ながはま文化福祉プラザ内） \n　　　　　　　　　TEL:0749-65-6907 \n　　　　　　　　※駐車場に限りがありますので、公共交通機関の利用をご検討ください。 \n  \n３．対象者　　　湖北地域管内事業場の環境管理の責任者・担当者等 \n  \n４．参加費　　　無料 \n  \n５．内　容 \n　　　(1) 湖北環境事務所からの情報提供　　　　　 　　　　　  滋賀県湖北環境事務所 \n　　　　・工場等立入調査結果について \n　　　　・水質汚濁に係る環境基準の改正について（大腸菌群数、六価クロム） \n　　　　・特定化学物質の環境への排出量の把握等及び管理の改善の促進に関する法律施行令および \n　　　　　施行規則の改正について（PRTR制度の見直し） \n  \n　　　(2) 滋賀県における大気汚染状況の測定結果について \n　　　　　　　　　　　　滋賀県琵琶湖環境科学研究センター　環境監視部門大気圏係 \n  \n　　　(3) 管内事業場からの環境保全活動の取り組み事例紹介 \n　　　　・『滋賀事業所の環境活動 〜省エネ・リサイクル推進の取り組み〜』兵神装備株式会社 \n  \n  \n　　当日、会場での資料の配布はございません。 \n　　資料につきましては事前に申込書記載のメールアドレスにお送りしますので必要な方は当日印刷してご持参ください。 \n　　※研修内容は当日変更する場合がありますが、ご了承ください。 \n  \n  \n 
URL:https://www.kankyohozen.jp/event/%e6%b9%96%e5%8c%97%e5%9c%b0%e5%9f%9f%e7%92%b0%e5%a2%83%e4%bf%9d%e5%85%a8%e7%a0%94%e4%bf%ae%e4%bc%9a-9
LOCATION:長浜まちづくりセンター　さざなみタウン\, 高田町12-34\, 長浜市\, 526-0037 \, 日本
ORGANIZER;CN="%EF%BC%88%E5%85%AC%E7%A4%BE%EF%BC%89%E6%BB%8B%E8%B3%80%E7%9C%8C%E7%92%B0%E5%A2%83%E4%BF%9D%E5%85%A8%E5%8D%94%E4%BC%9A":MAILTO:info@kankyohozen.jp
END:VEVENT
BEGIN:VEVENT
DTSTART;TZID=Asia/Tokyo:20240308T140000
DTEND;TZID=Asia/Tokyo:20240308T163000
DTSTAMP:20260423T040349
CREATED:20240208T045917Z
LAST-MODIFIED:20240208T045917Z
UID:4522-1709906400-1709915400@www.kankyohozen.jp
SUMMARY:高島地域環境保全研修会
DESCRIPTION:滋賀県高島環境事務所との共催で、標記研修会を開催いたします。 \nこの研修会は、事業者の環境保全の取り組みを推進することを目的としており、最近の環境に関する法令改正の説明や事業所立入調査報告等の情報提供を行います。 \n法令遵守や日常の環境管理業務に役立つものと考えられますので、是非ご出席いただきますようご案内いたします。 \nなお、ご参加につきましては、令和６年３月１日（金）までに申込みをお願いします。 \n  \n１．日　時　　　令和６年３月８日（金）14時00分～16時30分（受付開始13時30分） \n  \n２．場　所　　　 高島市観光物産プラザ内　新旭公民館２階 視聴覚室（電話0740-25-5500） \n　　　　　　　　　高島市新旭町旭一丁目10番地1　JR新旭駅 西口より徒歩1分 \n　　　　　　　　　※できるだけ公共交通機関の利用をお願いいたします。 \n  \n３．対象者　　　高島地域管内事業所の環境管理の責任者・担当者等 \n  \n４．参加費　　　 無料 \n  \n５．内　容                                                    \n　　　　　(1) 高島環境事務所からの情報提供（60分）　     滋賀県高島環境事務所 \n　　　　　　・令和5年度工場等立入調査結果について　　　　　　　　　 \n　　　　　　・環境法令の改正等動向について \n  \n　　　　　(2) 「滋賀県における大気汚染状況の測定結果について」(30分) \n　　　　　　　　　　　　　滋賀県琵琶湖環境科学研究センター　環境監視部門大気圏係 \n  \n　　　　　(3) 滋賀県の廃棄物の現状について(30分) \n                                                  滋賀県琵琶湖環境部循環社会推進課 \n　　　　　(4) 環境保全への取組み事例の紹介(30分)　　　　　　　　　　　　　 \n　　　　　　　　　　　　新旭電子工業株式会社 \n  \n　　　　　　当日、会場での資料の配布はございません。 \n　　　　　　資料につきましては事前にメールアドレスにお送りしますので必要な方は当日印刷してご持参ください。 \n　　　　　　※当日のプログラムに変更がある場合がありますが、御了承ください。 \n  \n  \n 
URL:https://www.kankyohozen.jp/event/%e9%ab%98%e5%b3%b6%e5%9c%b0%e5%9f%9f%e7%92%b0%e5%a2%83%e4%bf%9d%e5%85%a8%e7%a0%94%e4%bf%ae%e4%bc%9a-9
LOCATION:高島市観光物産プラザ内　新旭公民館\, 高島市新旭町旭1丁目10-1\, 高島市\, 高島市\, 520-1501\, 日本
ORGANIZER;CN="%EF%BC%88%E5%85%AC%E7%A4%BE%EF%BC%89%E6%BB%8B%E8%B3%80%E7%9C%8C%E7%92%B0%E5%A2%83%E4%BF%9D%E5%85%A8%E5%8D%94%E4%BC%9A":MAILTO:info@kankyohozen.jp
END:VEVENT
END:VCALENDAR