BEGIN:VCALENDAR
VERSION:2.0
PRODID:-//公益社団法人 滋賀県環境保全協会 - ECPv6.7.0//NONSGML v1.0//EN
CALSCALE:GREGORIAN
METHOD:PUBLISH
X-ORIGINAL-URL:https://www.kankyohozen.jp
X-WR-CALDESC:公益社団法人 滋賀県環境保全協会 のイベント
REFRESH-INTERVAL;VALUE=DURATION:PT1H
X-Robots-Tag:noindex
X-PUBLISHED-TTL:PT1H
BEGIN:VTIMEZONE
TZID:Asia/Tokyo
BEGIN:STANDARD
TZOFFSETFROM:+0900
TZOFFSETTO:+0900
TZNAME:JST
DTSTART:20250101T000000
END:STANDARD
END:VTIMEZONE
BEGIN:VEVENT
DTSTART;TZID=Asia/Tokyo:20250122T133000
DTEND;TZID=Asia/Tokyo:20250122T190000
DTSTAMP:20260422T105154
CREATED:20241213T044229Z
LAST-MODIFIED:20241227T005525Z
UID:4643-1737552600-1737572400@www.kankyohozen.jp
SUMMARY:サーキュラーエコノミーセミナー・新春賀詞交歓会
DESCRIPTION:新春の恒例行事であります賀詞交歓会を以下の通り開催します。\n今回の講演は、サーキュラーエコノミーセミナーとして滋賀県と共催で開催いたします。 \n詳細のご案内は最下部のチラシをご覧ください。 \n【日　時】 令和7年1月22日（水）　13時00分受付開始 \n　　　　　　　サーキュラーエコノミーセミナー 　13時30分から17時00分\n　　　　　　　　　　　ハイブリッド(会場・オンライン同時開催) \n　　　　　　　新春賀詞交歓会　　　　　　　　　　　 17時15分から19時00分 \n【会　場】　琵琶湖ホテル　3階「瑠璃の間」 \n【参加費】　交歓会にご参加の方のみ10\,000円を当日徴収させて頂きます。\n※交歓会をお申込み後のご欠席につきましては、1月19日の午後以降はキャンセル料を申し受けます。 \n【申込締切】令和7年1月10日(金) \n【お申込方法】 \nGoogleフォームでお申込みいただくか添付のお申込用紙にご記入の上、メール又はＦＡＸにてお申込ください。 \nセミナーと賀詞交歓会それぞれに申込フォーム、申込用紙がございます。 \nセミナー、賀詞交歓会それぞれにお申込み下さい。どちらかだけのご出席も可能です。 \nサーキュラーエコノミーセミナー申込み（Googleフォーム）\nhttps://forms.gle/9ASjZNacVvLDN5YE6 \n賀詞交歓会申込み（Googleフォーム）\nhttps://forms.gle/7hvn2m3hXS2Z4YNP8
URL:https://www.kankyohozen.jp/event/circular
LOCATION:琵琶湖ホテル\, 滋賀県大津市浜町2-40\, 大津市\, 520-0041\, 日本
END:VEVENT
END:VCALENDAR