BEGIN:VCALENDAR
VERSION:2.0
PRODID:-//公益社団法人 滋賀県環境保全協会 - ECPv6.7.0//NONSGML v1.0//EN
CALSCALE:GREGORIAN
METHOD:PUBLISH
X-WR-CALNAME:公益社団法人 滋賀県環境保全協会
X-ORIGINAL-URL:https://www.kankyohozen.jp
X-WR-CALDESC:公益社団法人 滋賀県環境保全協会 のイベント
REFRESH-INTERVAL;VALUE=DURATION:PT1H
X-Robots-Tag:noindex
X-PUBLISHED-TTL:PT1H
BEGIN:VTIMEZONE
TZID:Asia/Tokyo
BEGIN:STANDARD
TZOFFSETFROM:+0900
TZOFFSETTO:+0900
TZNAME:JST
DTSTART:20230101T000000
END:STANDARD
END:VTIMEZONE
BEGIN:VEVENT
DTSTART;TZID=Asia/Tokyo:20230214T140000
DTEND;TZID=Asia/Tokyo:20230214T161000
DTSTAMP:20260424T043247
CREATED:20230116T004527Z
LAST-MODIFIED:20230116T004527Z
UID:4416-1676383200-1676391000@www.kankyohozen.jp
SUMMARY:東近江地域環境保全研修会
DESCRIPTION:滋賀県東近江環境事務所との共催で、標記研修会を下記のとおり開催いたします。 \nこの研修会は、事業者の環境保全の取り組みを推進することを目的としており、 \n環境に関する法令の説明や工場立入調査報告等の情報提供を行います。 \n法令遵守や日常の環境管理業務に役立つものと考えられますので、 \n是非ご出席いただきますようご案内いたします。 \nなお、ご参加につきましては、令和5年2月７日（火）までに申込みをお願いします。 \n  \n１．日　時　　　令和5年2月14日（火）14時00分～16時10分（受付開始13時30分） \n  \n２．場　所　　　 滋賀県立男女共同参画センター　大ホール \n　　　　　　　　　近江八幡市鷹飼町80-4（TEL0748-37-3751） \n　　　　　　　　　※できるだけ公共交通機関の御利用をお願いいたします。 \n  \n３．対象者　　　東近江地域管内事業所の環境管理の責任者・担当者等 \n  \n４．定　員　　　100名（先着順） \n  \n５．参加費　　　　無料 \n  \n６．内　容                                                    \n　　　　(1) 東近江環境事務所からの情報提供（60分）　     　滋賀県東近江環境事務所 \n 　　　　　・工場立入調査結果と指導・助言・事故・推奨事例紹介 \n　　　　　・環境に関する法令について \n  \n 　　　(2) 企業の環境保全・地域貢献等に関する取組 \n　　　　　・パナソニック株式会社くらしアプライアンス社ランドリー･クリーナー事業部八日市工場 \n　　　　　・株式会社ファンケル美健 \n  \n※当日のプログラムに変更がある場合がありますが、御了承ください。 \n  \n ７．新型コロナウイルス感染予防対策について \n　　新型コロナウイルス感染防止の観点から、以下の通り、会場で感染防止対策を講じた上で実施しますので、 \n　　全ての項目に同意の上、お申込下さい。 \n　　　(1)   換気も十分配慮して対応致します。 \n　　　　　(尚、窓や扉を開けて換気をする場合がありますので体温調整の出来る服装でご出席ください。) \n　　　(2)   受講者は必ずマスクを着用の上、来場し、会場内では常時マスクを着用して下さい。 \n　　　(3)   会場ではアルコール消毒液を設置しておりますので、手指消毒をお願い致します \n　　　(4)   発熱(37.5℃以上)等の体調不良が認められる方は、予め来場をお控え下さい。 \n　　　(5)   会場では受付で検温を実施し、発熱等の体調不良が確認された場合は受講をお断り致します。 \n  \n　　　○主催　　滋賀県東近江環境事務所・公益社団法人滋賀県環境保全協会 \n  \n  \n 
URL:https://www.kankyohozen.jp/event/%e6%9d%b1%e8%bf%91%e6%b1%9f%e5%9c%b0%e5%9f%9f%e7%92%b0%e5%a2%83%e4%bf%9d%e5%85%a8%e7%a0%94%e4%bf%ae%e4%bc%9a-8
LOCATION:滋賀県立男女共同参画センター“G-NETしが”\, 滋賀県近江八幡市鷹飼町80-4\, 近江八幡市\, 523-0891\, 日本
ORGANIZER;CN="%EF%BC%88%E5%85%AC%E7%A4%BE%EF%BC%89%E6%BB%8B%E8%B3%80%E7%9C%8C%E7%92%B0%E5%A2%83%E4%BF%9D%E5%85%A8%E5%8D%94%E4%BC%9A":MAILTO:info@kankyohozen.jp
END:VEVENT
END:VCALENDAR