BEGIN:VCALENDAR
VERSION:2.0
PRODID:-//公益社団法人 滋賀県環境保全協会 - ECPv6.7.0//NONSGML v1.0//EN
CALSCALE:GREGORIAN
METHOD:PUBLISH
X-ORIGINAL-URL:https://www.kankyohozen.jp
X-WR-CALDESC:公益社団法人 滋賀県環境保全協会 のイベント
REFRESH-INTERVAL;VALUE=DURATION:PT1H
X-Robots-Tag:noindex
X-PUBLISHED-TTL:PT1H
BEGIN:VTIMEZONE
TZID:Asia/Tokyo
BEGIN:STANDARD
TZOFFSETFROM:+0900
TZOFFSETTO:+0900
TZNAME:JST
DTSTART:20230101T000000
END:STANDARD
END:VTIMEZONE
BEGIN:VEVENT
DTSTART;TZID=Asia/Tokyo:20230217T140000
DTEND;TZID=Asia/Tokyo:20230217T163000
DTSTAMP:20260424T043342
CREATED:20230117T050951Z
LAST-MODIFIED:20230117T050951Z
UID:4419-1676642400-1676651400@www.kankyohozen.jp
SUMMARY:大津地域環境保全研修会
DESCRIPTION:大津市との共催で、標記研修会を下記のとおり開催いたします。 \nこの研修会は、事業者の環境保全の取組を推進することを目的としており、 \n最近の環境に関する法令改正の説明や事業所立入調査報告等の情報提供を行います。 \n法令遵守や日常の環境管理業務に役立つものと考えられますので、是非ご出席いただきますようご案内いたします。 \nなお、ご参加につきましては、令和5年2月10日（金）までに申込みをお願いします。 \n　　　　　　　　　　　　　　　　　　　　　　　　　　　　　　　　　　　　　　　 \n  \n１．日　時　　令和5年2月17日（金）14時00分～16時30分（受付開始13時30分） \n  \n２．場　所　　市立市民文化会館　多目的ホール(住所:大津市御陵町2-3) \n　　　　　　　　　　　　　　　　　　　　　　　TEL:077-522-7165 \n　※駐車場は台数に限りがあるため、ご来場の際はできる限り公共交通機関のご利用をお願いします。 \n  \n３．対象者　　大津地域管内事業所の環境管理の責任者・担当者等 \n　　　　　　　環境保全協定締結事業所の環境管理担当者 \n　　　　　　　環境管理統括者選任事業所の環境管理担当者 \n　　　　　　　公益社団法人滋賀県環境保全協会会員 \n  \n４．参加費　　　無料 \n  \n５．内　容   \n                    (1) 大津市からの情報提供　　　　　    　　　　　　　　大津市環境部環境政策課 \n　　　　 　　　 (2) 事業所からの環境への取組事例の報告 \n                         ・株式会社叶 匠寿庵 \n　              　     ・株式会社島津製作所 \n　　　　　　　　　　（　質疑応答　） \n                       ※当日のプログラムに若干の変更がある場合がありますが、御了承ください。 \n  \n６．新型コロナウイルス感染予防対策について \n　　新型コロナウイルス感染防止の観点から、以下の通り、会場で感染防止対策を講じた上で実施しますので、 \n　　全ての項目に同意の上、お申込下さい。 \n          (1)   換気も十分配慮して対応致します。 \n                 (尚、窓や扉を開けて換気をする場合がありますので体温調整の出来る服装でご出席ください。) \n          (2)   受講者は必ずマスクを着用の上、来場し、会場内では常時マスクを着用して下さい。 \n          (3)   会場ではアルコール消毒液を設置しておりますので、手指消毒をお願い致します \n          (4)   発熱(37.5℃以上)、倦怠感、咳等の体調不良が認められる方は、予め来場をお控え下さい。 \n           (5)   会場では受付で検温を実施し、発熱等の体調不良が確認された場合は受講をお断り致します。 \n  \n          ○主催　　大津市・公益社団法人滋賀県環境保全協会 \n  \n  \n 
URL:https://www.kankyohozen.jp/event/%e5%a4%a7%e6%b4%a5%e5%9c%b0%e5%9f%9f%e7%92%b0%e5%a2%83%e4%bf%9d%e5%85%a8%e7%a0%94%e4%bf%ae%e4%bc%9a-7
LOCATION:市民文化会館\, 大津市御陵町2-3\, 大津市\, 520-0037\, 日本
ORGANIZER;CN="%EF%BC%88%E5%85%AC%E7%A4%BE%EF%BC%89%E6%BB%8B%E8%B3%80%E7%9C%8C%E7%92%B0%E5%A2%83%E4%BF%9D%E5%85%A8%E5%8D%94%E4%BC%9A":MAILTO:info@kankyohozen.jp
END:VEVENT
END:VCALENDAR