BEGIN:VCALENDAR
VERSION:2.0
PRODID:-//公益社団法人 滋賀県環境保全協会 - ECPv6.7.0//NONSGML v1.0//EN
CALSCALE:GREGORIAN
METHOD:PUBLISH
X-ORIGINAL-URL:https://www.kankyohozen.jp
X-WR-CALDESC:公益社団法人 滋賀県環境保全協会 のイベント
REFRESH-INTERVAL;VALUE=DURATION:PT1H
X-Robots-Tag:noindex
X-PUBLISHED-TTL:PT1H
BEGIN:VTIMEZONE
TZID:Asia/Tokyo
BEGIN:STANDARD
TZOFFSETFROM:+0900
TZOFFSETTO:+0900
TZNAME:JST
DTSTART:20240101T000000
END:STANDARD
END:VTIMEZONE
BEGIN:VEVENT
DTSTART;TZID=Asia/Tokyo:20240215T140000
DTEND;TZID=Asia/Tokyo:20240215T161000
DTSTAMP:20260423T072004
CREATED:20240122T052529Z
LAST-MODIFIED:20240122T052529Z
UID:4516-1708005600-1708013400@www.kankyohozen.jp
SUMMARY:東近江地域環境保全研修会
DESCRIPTION:滋賀県東近江環境事務所との共催で、標記研修会を下記のとおり開催いたします。 \nこの研修会は、事業者の環境保全の取り組みを推進することを目的としており、環境に関する法令の説明や工場立入調査報告等の情報提供を行います。 \n法令遵守や日常の環境管理業務に役立つものと考えられますので、是非ご出席いただきますようご案内申し上げます。 \nなお、ご参加につきましては、令和６年2月７日（水）までに申込みをお願いいたします。 \n  \n１．日　時　　　令和6年2月15日（木）14時00分～16時10分（受付開始13時30分） \n  \n２．場　所　　　 滋賀県立男女共同参画センター　大ホール \n　　　　　　　　近江八幡市鷹飼町80-4（TEL0748-37-3751） \n　　　　　　　　※できるだけ公共交通機関の御利用をお願いいたします。 \n  \n３．対象者　　　東近江地域管内事業所の環境管理の責任者・担当者等 \n  \n４．参加費　　　　無料 \n  \n５．内　容                                                    \n　　　　　　(1) 東近江環境事務所からの情報提供　　　　　　    　　滋賀県東近江環境事務所 \n　　　　　　　　「工場立入調査結果と指導等事例紹介」 \n　　　　　　　　「最近の環境法令改正等について」 \n  \n　　　　　　(2)「滋賀県における大気汚染状況の測定結果について」 \n　　　　　　　　　　　　　　滋賀県琵琶湖環境科学研究センター　環境監視部門大気圏係 \n  \n　　　　　　(3) 企業の環境保全・地域貢献等に関する取組 \n　　　　　　　　　　・アインズ株式会社 \n　　　　　　　　　　・豊通ペットリサイクルシステムズ株式会社 \n　 \n　当日、会場での資料の配布はございません。 \n　資料は事前にメールアドレスにお送りしますので必要な方は当日、印刷してご持参ください。 \n  \n　　※当日、都合によりプログラムに変更が生じた場合は、御了承ください。 \n  \n  \n 
URL:https://www.kankyohozen.jp/event/%e6%9d%b1%e8%bf%91%e6%b1%9f%e5%9c%b0%e5%9f%9f%e7%92%b0%e5%a2%83%e4%bf%9d%e5%85%a8%e7%a0%94%e4%bf%ae%e4%bc%9a-9
LOCATION:滋賀県立男女共同参画センター“G-NETしが”\, 滋賀県近江八幡市鷹飼町80-4\, 近江八幡市\, 523-0891\, 日本
ORGANIZER;CN="%EF%BC%88%E5%85%AC%E7%A4%BE%EF%BC%89%E6%BB%8B%E8%B3%80%E7%9C%8C%E7%92%B0%E5%A2%83%E4%BF%9D%E5%85%A8%E5%8D%94%E4%BC%9A":MAILTO:info@kankyohozen.jp
END:VEVENT
END:VCALENDAR