BEGIN:VCALENDAR
VERSION:2.0
PRODID:-//公益社団法人 滋賀県環境保全協会 - ECPv6.7.0//NONSGML v1.0//EN
CALSCALE:GREGORIAN
METHOD:PUBLISH
X-ORIGINAL-URL:https://www.kankyohozen.jp
X-WR-CALDESC:公益社団法人 滋賀県環境保全協会 のイベント
REFRESH-INTERVAL;VALUE=DURATION:PT1H
X-Robots-Tag:noindex
X-PUBLISHED-TTL:PT1H
BEGIN:VTIMEZONE
TZID:Asia/Tokyo
BEGIN:STANDARD
TZOFFSETFROM:+0900
TZOFFSETTO:+0900
TZNAME:JST
DTSTART:20240101T000000
END:STANDARD
END:VTIMEZONE
BEGIN:VEVENT
DTSTART;TZID=Asia/Tokyo:20240222T140000
DTEND;TZID=Asia/Tokyo:20240222T163000
DTSTAMP:20260423T071844
CREATED:20240119T014245Z
LAST-MODIFIED:20240119T014245Z
UID:4506-1708610400-1708619400@www.kankyohozen.jp
SUMMARY:湖東地域環境保全研修会
DESCRIPTION:滋賀県湖東環境事務所との共催で、標記研修会を開催いたします。 \n本研修会は、事業者の環境保全の取り組みを推進することを目的に、最近の環境に関する法令改正の説明や事業所立入調査結果等の情報提供を行います。 \nお忙しいとは存じますが、是非御参加いただきますよう御案内申し上げます。 \nなお、御参加につきましては、令和6年2月15日（木）までに、申込みをお願いいたします。　　　 \n  \n１．日　時　　　令和6年2月22日（木）14時00分～16時30分（受付開始13時30分） \n  \n２．場　所　　　彦根勤労福祉会館　4階大ホール　 \n　　　　　　　（彦根市大東町4番28号）　Tel.0749-23-4141 \n　　　　　　　　※可能な限り、公共交通機関の御利用をお願いいたします。 \n  \n３．対象者　　　湖東地域管内事業所の環境管理の責任者・担当者様等 \n  \n４．参加費　　　無料 \n  \n５．内　容     （当日のプログラムには変更がある場合があります。）                                            \n　　　　　　　(1) 滋賀県湖東環境事務所からの情報提供　　　　　　　　　　　     　　　　　　　 \n　　　　　　　　　・工場等立入調査結果等　　　 　　　　　　　　 　　　　　　　　　　 \n　　　　　　　　　・法改正等の情報提供 （水質汚濁防止法、ＰＲＴＲ等）      \n　　 \n　　　　　　（2） 滋賀県琵琶湖環境科学研究センター環境監視部門大気圏係からの情報提供　 \n　　　　　　　　　・滋賀県における大気汚染状況の測定結果について \n                                     　 \n　　　　　　　（3）事業所からの環境への取組事例の報告　 \n　　　　　　　　　 ・油流出事故対応事例紹介　　　　　　　カネ上株式会社 \n　　　　　　　　　・環境に配慮した事業所での取り組み　　独立行政法人国立印刷局彦根工場 \n  \n６．その他連絡事項 \n　　　　　　　紙の使用量節減のため、会場での資料配布は予定しておりません。 \n　　　　　　　参加申込書内のメールアドレス宛に資料を事前にメール配布いたしますので、予め御了承ください。 \n　　　　 \n  \n  \n 
URL:https://www.kankyohozen.jp/event/%e6%b9%96%e6%9d%b1%e5%9c%b0%e5%9f%9f%e7%92%b0%e5%a2%83%e4%bf%9d%e5%85%a8%e7%a0%94%e4%bf%ae%e4%bc%9a-9
LOCATION:彦根勤労福祉会館\, 彦根市大東町4-28\, 彦根市\, 522-0074\, 日本
ORGANIZER;CN="%EF%BC%88%E5%85%AC%E7%A4%BE%EF%BC%89%E6%BB%8B%E8%B3%80%E7%9C%8C%E7%92%B0%E5%A2%83%E4%BF%9D%E5%85%A8%E5%8D%94%E4%BC%9A":MAILTO:info@kankyohozen.jp
END:VEVENT
END:VCALENDAR