BEGIN:VCALENDAR
VERSION:2.0
PRODID:-//公益社団法人 滋賀県環境保全協会 - ECPv6.7.0//NONSGML v1.0//EN
CALSCALE:GREGORIAN
METHOD:PUBLISH
X-WR-CALNAME:公益社団法人 滋賀県環境保全協会
X-ORIGINAL-URL:https://www.kankyohozen.jp
X-WR-CALDESC:公益社団法人 滋賀県環境保全協会 のイベント
REFRESH-INTERVAL;VALUE=DURATION:PT1H
X-Robots-Tag:noindex
X-PUBLISHED-TTL:PT1H
BEGIN:VTIMEZONE
TZID:Asia/Tokyo
BEGIN:STANDARD
TZOFFSETFROM:+0900
TZOFFSETTO:+0900
TZNAME:JST
DTSTART:20250101T000000
END:STANDARD
END:VTIMEZONE
BEGIN:VEVENT
DTSTART;TZID=Asia/Tokyo:20250217T140000
DTEND;TZID=Asia/Tokyo:20250217T163000
DTSTAMP:20260422T101652
CREATED:20250116T065507Z
LAST-MODIFIED:20250116T065507Z
UID:4664-1739800800-1739809800@www.kankyohozen.jp
SUMMARY:湖東地域環境保全研修会
DESCRIPTION:滋賀県湖東環境事務所との共催で、事業者の皆様による環境保全の取組に資するため、標記研修会を下記の通り開催いたします。 \nお忙しいとは存じますが、是非御参加いただきますよう御案内申し上げます。 \n\nなお、ご参加にあたりましては、令和7年2月10日（月）までにGoogleフォームでお申込みいただくか \n最下部詳細のご案内申込用紙にご記入の上、メール又はＦＡＸにてお申込ください。 \n\n申込み（Googleフォーム）\nhttps://forms.gle/S7g9natBiMmmyyD28 \n  \n１．日　時　　　令和7年2月17日（月）14時00分～16時30分（受付開始13時30分） \n２．場　所　　　彦根勤労福祉会館　4階大ホール　\n　　　　　　　　（彦根市大東町4番28号）　Tel.0749-23-4141\n　　　　　　　　　※駐車スペースに限りがあるため、可能な限り公共交通機関の御利用をお願いします。\n　　　　　　　　　　車での来場時の注意事項：http://tachibana.html.xdomain.jp/access/index.htm \n\n３．対象者　　　湖東地域管内事業所の環境管理の責任者・担当者様等 \n４．参加費　　　無料 \n５．内　容 （当日のプログラムには変更がある場合があります。） \n　　　　　　　　(1）サーキュラーエコノミーにおける排出事業者について\n　　　滋賀県琵琶湖環境部循環社会推進課\n　　　　　　　　(2) 事業所からの環境への取組事例報告①　　 大東電材株式会社\n　　　　　　　　(3) 滋賀県湖東環境事務所からの情報提供　　　　　　　　　　　 　　　　　　　\n　　　　　　　　　　　・工場等立入調査結果等　　　 　　　　　　　　 　　　　　　　　　　\n　　　　　　　　　　　・法改正等の情報提供 （水質汚濁防止法、ＰＲＴＲ等） \n　　　　　　　　(4) 事業所からの環境への取組事例報告②　　 アウンデ紡績株式会社 \n６．その他連絡事項\n　　　　　　　　紙の使用量節減のため、会場での資料配布は予定しておりません。\n　　　　　　　　参加申込書内のメールアドレス宛に資料を事前にメール配布いたしますので、予め御了承ください。\n　　　　　　　　2月13日(木)までに資料配布のメールが届かない場合は事務局までお問い合わせください。　 \n\n　　　 　　○主催　　滋賀県湖東環境事務所・公益社団法人滋賀県環境保全協会
URL:https://www.kankyohozen.jp/event/%e6%b9%96%e6%9d%b1%e5%9c%b0%e5%9f%9f%e7%92%b0%e5%a2%83%e4%bf%9d%e5%85%a8%e7%a0%94%e4%bf%ae%e4%bc%9a-10
LOCATION:彦根勤労福祉会館\, 彦根市大東町4-28\, 彦根市\, 522-0074\, 日本
ORGANIZER;CN="%EF%BC%88%E5%85%AC%E7%A4%BE%EF%BC%89%E6%BB%8B%E8%B3%80%E7%9C%8C%E7%92%B0%E5%A2%83%E4%BF%9D%E5%85%A8%E5%8D%94%E4%BC%9A":MAILTO:info@kankyohozen.jp
END:VEVENT
END:VCALENDAR