BEGIN:VCALENDAR
VERSION:2.0
PRODID:-//公益社団法人 滋賀県環境保全協会 - ECPv6.7.0//NONSGML v1.0//EN
CALSCALE:GREGORIAN
METHOD:PUBLISH
X-ORIGINAL-URL:https://www.kankyohozen.jp
X-WR-CALDESC:公益社団法人 滋賀県環境保全協会 のイベント
REFRESH-INTERVAL;VALUE=DURATION:PT1H
X-Robots-Tag:noindex
X-PUBLISHED-TTL:PT1H
BEGIN:VTIMEZONE
TZID:Asia/Tokyo
BEGIN:STANDARD
TZOFFSETFROM:+0900
TZOFFSETTO:+0900
TZNAME:JST
DTSTART:20250101T000000
END:STANDARD
END:VTIMEZONE
BEGIN:VEVENT
DTSTART;TZID=Asia/Tokyo:20250219T140000
DTEND;TZID=Asia/Tokyo:20250219T163000
DTSTAMP:20260422T120616
CREATED:20250116T065455Z
LAST-MODIFIED:20250116T065455Z
UID:4674-1739973600-1739982600@www.kankyohozen.jp
SUMMARY:南部地域環境保全研修会
DESCRIPTION:滋賀県南部環境事務所との共催で、事業者の皆様による環境保全の取組に資するため、標記研修会を下記の通り開催いたします。 \nお忙しいとは存じますが、是非御参加いただきますよう御案内申し上げます。 \n\nなお、ご参加にあたりましては、令和7年2月12日（水）までにGoogleフォームでお申込みいただくか\n最下部詳細のご案内申込用紙にご記入の上、メール又はＦＡＸにてお申込ください。 \n\n申込み（Googleフォーム）\nhttps://forms.gle/CtfVCUyA56FxMLwp8 \n  \n１．日　時　　　令和7年2月19日（水）14時00分～16時15分（受付開始13時30分） \n２．場　所　　　 ウイングプラザ　４F　研修室E　栗東市綣２丁目４-５\n　　　　　　　　　　　　　　　　　（TEL.077-552-3066）\n　　　　　　　　　※駐車場には限りがありますので、できる限り公共交通機関をご利用ください。\n　　　　　　　　　※4時間無料割引を受けられる方は事務室で駐車券のスタンプ押印を受けてください。　　　　　　　 \n３．対象者　　　南部地域管内事業所の環境管理の責任者・担当者等 \n４．参加費　　　無料 \n５．内　容 \n　　　　(1) 滋賀県南部環境事務所からの情報提供（約60分）\n　　　　　　　　「工場立入調査結果と指導等事例紹介」 \n　　　　(2)　サーキュラーエコノミーにおける排出事業者について　（約30分）\n　　　　　　　　　　　　　　　　滋賀県琵琶湖環境部循環社会推進課 \n　　　　(3)　講演　環境への取組の事例紹介(約30分) 　山科精器株式会社 様 \n　　　　　　※当日のプログラムに変更がある場合がありますが、御了承ください。\n　\n６．その他連絡事項\n　　　　　紙の使用量節減のため、会場での資料配布は予定しておりません。\n　　　　　参加申込書内のメールアドレス宛に資料を事前にメール配布いたしますので、予め御了承ください。\n　　 \n○主催　　滋賀県南部環境事務所・公益社団法人滋賀県環境保全協会
URL:https://www.kankyohozen.jp/event/%e5%8d%97%e9%83%a8%e5%9c%b0%e5%9f%9f%e7%92%b0%e5%a2%83%e4%bf%9d%e5%85%a8%e7%a0%94%e4%bf%ae%e4%bc%9a-11
LOCATION:ウイングプラザ\, 滋賀県栗東市綣2丁目4-5\, 栗東\, 日本
ORGANIZER;CN="%EF%BC%88%E5%85%AC%E7%A4%BE%EF%BC%89%E6%BB%8B%E8%B3%80%E7%9C%8C%E7%92%B0%E5%A2%83%E4%BF%9D%E5%85%A8%E5%8D%94%E4%BC%9A":MAILTO:info@kankyohozen.jp
END:VEVENT
END:VCALENDAR