BEGIN:VCALENDAR
VERSION:2.0
PRODID:-//公益社団法人 滋賀県環境保全協会 - ECPv6.7.0//NONSGML v1.0//EN
CALSCALE:GREGORIAN
METHOD:PUBLISH
X-ORIGINAL-URL:https://www.kankyohozen.jp
X-WR-CALDESC:公益社団法人 滋賀県環境保全協会 のイベント
REFRESH-INTERVAL;VALUE=DURATION:PT1H
X-Robots-Tag:noindex
X-PUBLISHED-TTL:PT1H
BEGIN:VTIMEZONE
TZID:Asia/Tokyo
BEGIN:STANDARD
TZOFFSETFROM:+0900
TZOFFSETTO:+0900
TZNAME:JST
DTSTART:20250101T000000
END:STANDARD
END:VTIMEZONE
BEGIN:VEVENT
DTSTART;TZID=Asia/Tokyo:20250220T140000
DTEND;TZID=Asia/Tokyo:20250220T163000
DTSTAMP:20260422T101015
CREATED:20250120T005458Z
LAST-MODIFIED:20250120T005458Z
UID:4680-1740060000-1740069000@www.kankyohozen.jp
SUMMARY:東近江地域環境保全研修会
DESCRIPTION:滋賀県東近江環境事務所との共催で、事業者の皆様による環境保全の取組に資するため、標記研修会を下記の通り開催いたします。 \nお忙しいとは存じますが、是非御参加いただきますよう御案内申し上げます。 \n\nなお、ご参加にあたりましては、令和7年2月13日（木）までにGoogleフォームでお申込みいただくか\n最下部詳細のご案内申込用紙にご記入の上、メール又はＦＡＸにてお申込ください。 \n\n申込み（Googleフォーム）\nhttps://forms.gle/M6tgiKUY2ekQnBee9 \n  \n１．日　時　　　令和7年2月20日（木）14時00分～16時30分（受付開始13時30分） \n２．場　所　　　 滋賀県立男女共同参画センター　大ホール\n　　　　　　　　近江八幡市鷹飼町80-4（TEL0748-37-3751）\n　　　　　　　　※駐車スペースに限りがあるため、可能な限り公共交通機関の御利用をお願いします。 \n３．対象者　　　東近江地域管内事業所の環境管理の責任者・担当者等 \n４．参加費　　　　無料 \n５．内　容 　　※当日、都合によりプログラムに変更が生じた場合は、御了承ください。 \n　　　　　　　　(1) 東近江環境事務所からの情報提供　　　　　　 　 　滋賀県東近江環境事務所\n　　　　　　　　　　　「工場立入調査結果と指導等事例紹介」\n　　　　　　　　　　　「最近の環境法令改正等について」\n　　　　　　　　　　　「油等流出事故対応事例の紹介」 \n　　　　　　　　(2)「サーキュラーエコノミーにおける排出事業者について」\n　　　　　　　　　　　　　　滋賀県琵琶湖環境部循環社会推進課 \n　　　　　　　　(3) 企業の環境保全・地域貢献等に関する取組\n　　　　　　　　　　　・積水樹脂株式会社滋賀工場\n　　　　　　　　　　　・日野精機株式会社\n　\n６．その他連絡事項\n　　　　　　　紙の使用量節減のため、会場での資料配布は予定しておりません。\n　　　　　　　参加申込書内のメールアドレス宛に資料を事前にメール配布いたしますので、予め御了承ください。 \n\n○主催　　滋賀県東近江環境事務所・公益社団法人滋賀県環境保全協会
URL:https://www.kankyohozen.jp/event/%e6%9d%b1%e8%bf%91%e6%b1%9f%e5%9c%b0%e5%9f%9f%e7%92%b0%e5%a2%83%e4%bf%9d%e5%85%a8%e7%a0%94%e4%bf%ae%e4%bc%9a-10
LOCATION:滋賀県立男女共同参画センター“G-NETしが”\, 滋賀県近江八幡市鷹飼町80-4\, 近江八幡市\, 523-0891\, 日本
ORGANIZER;CN="%EF%BC%88%E5%85%AC%E7%A4%BE%EF%BC%89%E6%BB%8B%E8%B3%80%E7%9C%8C%E7%92%B0%E5%A2%83%E4%BF%9D%E5%85%A8%E5%8D%94%E4%BC%9A":MAILTO:info@kankyohozen.jp
END:VEVENT
END:VCALENDAR