BEGIN:VCALENDAR
VERSION:2.0
PRODID:-//公益社団法人 滋賀県環境保全協会 - ECPv6.7.0//NONSGML v1.0//EN
CALSCALE:GREGORIAN
METHOD:PUBLISH
X-WR-CALNAME:公益社団法人 滋賀県環境保全協会
X-ORIGINAL-URL:https://www.kankyohozen.jp
X-WR-CALDESC:公益社団法人 滋賀県環境保全協会 のイベント
REFRESH-INTERVAL;VALUE=DURATION:PT1H
X-Robots-Tag:noindex
X-PUBLISHED-TTL:PT1H
BEGIN:VTIMEZONE
TZID:Asia/Tokyo
BEGIN:STANDARD
TZOFFSETFROM:+0900
TZOFFSETTO:+0900
TZNAME:JST
DTSTART:20250101T000000
END:STANDARD
END:VTIMEZONE
BEGIN:VEVENT
DTSTART;TZID=Asia/Tokyo:20250305T140000
DTEND;TZID=Asia/Tokyo:20250305T161500
DTSTAMP:20260422T080908
CREATED:20250206T025843Z
LAST-MODIFIED:20250206T030131Z
UID:4694-1741183200-1741191300@www.kankyohozen.jp
SUMMARY:湖北地域環境保全研修会
DESCRIPTION:滋賀県湖北環境事務所との共催で、事業者の皆様による環境保全の取組に資するため、標記研修会を下記の通り開催いたします。 \nお忙しいとは存じますが、是非御参加いただきますよう御案内申し上げます。 \n\nなお、ご参加にあたりましては、令和7年2月26日（水）までにGoogleフォームでお申込みいただくか\n最下部詳細のご案内申込用紙にご記入の上、メール又はＦＡＸにてお申込ください。 \n\n申込み（Googleフォーム）\nhttps://forms.gle/ZhrMERCaC71aKb5q8 \n  \n１．日　時　　　令和7年3月5日（水）14：00～16：15（受付開始13：30） \n  \n２．場　所　　　長浜まちづくりセンター　さざなみタウン　２階　多目的ホール \n　　　　　　　　　（長浜市高田町12番34号　ながはま文化福祉プラザ内） \n　　　　　　　　　TEL:0749-65-6907 \n　　　　　　　　　　※駐車場に限りがありますので、公共交通機関の利用を御検討ください。 \n  \n３．対象者　　　湖北地域管内事業場の環境管理の責任者・担当者等 \n  \n４．参加費　　　無料 \n  \n５．内　容　　※研修内容は当日変更する場合がありますが、ご了承ください。 \n　　　　　　　(1) 湖北環境事務所からの情報提供　　　　　 　　　滋賀県湖北環境事務所 \n　　　　　　　　・工場等立入調査結果について \n　　　　　　　　・環境事故事例について \n　　　　　　　　・水質汚濁に係る環境基準の改正について（大腸菌群数） \n　　　　　　　(2) サーキュラーエコノミーにおける排出事業者について \n　　　　　　　　　　　　滋賀県琵琶湖環境部循環社会推進課 \n　　　　　　　(3) 管内事業場からの環境保全活動の取り組み事例紹介 \n　　　　　　　　　『滋賀地区の環境保全活動～省エネ・脱炭素化と環境保全活動活性化への取り組み～』 \n　　　　　　　　　　　　　　　　　　　　　　　ヤンマーパワーテクノロジー株式会社　小形事業部 \n  \n６．その他連絡事項 \n　　紙の使用量節減のため、会場での資料配布は予定しておりません。 \n　　参加申込書内のメールアドレス宛に資料を事前にメール配布いたしますので、予め御了承ください。 \n　　3月3日(月)までに資料配布のメールが届かない場合は事務局までお問い合わせください。
URL:https://www.kankyohozen.jp/event/%e6%b9%96%e5%8c%97%e5%9c%b0%e5%9f%9f%e7%92%b0%e5%a2%83%e4%bf%9d%e5%85%a8%e7%a0%94%e4%bf%ae%e4%bc%9a-10
LOCATION:長浜まちづくりセンター　さざなみタウン\, 高田町12-34\, 長浜市\, 526-0037 \, 日本
ORGANIZER;CN="%EF%BC%88%E5%85%AC%E7%A4%BE%EF%BC%89%E6%BB%8B%E8%B3%80%E7%9C%8C%E7%92%B0%E5%A2%83%E4%BF%9D%E5%85%A8%E5%8D%94%E4%BC%9A":MAILTO:info@kankyohozen.jp
END:VEVENT
END:VCALENDAR